BEGIN:VCALENDAR
VERSION:2.0
PRODID:-//wp-events-plugin.com//6.6.4//EN
TZID:Europe/Paris
X-WR-TIMEZONE:Europe/Paris
BEGIN:VEVENT
UID:123@haut-pays.be
DTSTART;TZID=Europe/Brussels:20261002T000000
DTEND;TZID=Europe/Brussels:20261004T000000
DTSTAMP:20260228T100132Z
URL:http://www.haut-pays.be/wordpress/events/week-end-du-commerce/
SUMMARY:Week-end du commerce
DESCRIPTION:
CATEGORIES:Festivité, événement ou marche
END:VEVENT
BEGIN:VTIMEZONE
TZID:Europe/Brussels
X-LIC-LOCATION:Europe/Brussels
BEGIN:DAYLIGHT
DTSTART:20260329T030000
TZOFFSETFROM:+0100
TZOFFSETTO:+0200
TZNAME:CEST
END:DAYLIGHT
END:VTIMEZONE
END:VCALENDAR