BEGIN:VCALENDAR
VERSION:2.0
PRODID:-//wp-events-plugin.com//6.6.4//EN
TZID:Europe/Paris
X-WR-TIMEZONE:Europe/Paris
BEGIN:VEVENT
UID:121@haut-pays.be
DTSTART;TZID=Europe/Brussels:20260919T000000
DTEND;TZID=Europe/Brussels:20260919T000000
DTSTAMP:20260228T100250Z
URL:http://www.haut-pays.be/wordpress/events/le-salon-des-sports-de-honnel
 les/
SUMMARY:Le Salon des sports de Honnelles
DESCRIPTION:Complexe sportif de La Roquette
CATEGORIES:Sport
LOCATION:Montignies-sur-Roc - Hall Omnisport La Roquette\, 6\, La Roquette\
 , Montignies-sur-roc\, 7387\, Belgique
X-APPLE-STRUCTURED-LOCATION;VALUE=URI;X-ADDRESS=6\, La Roquette\, Montignie
 s-sur-roc\, 7387\, Belgique;X-APPLE-RADIUS=100;X-TITLE=Montignies-sur-Roc 
 - Hall Omnisport La Roquette:geo:0,0
END:VEVENT
BEGIN:VTIMEZONE
TZID:Europe/Brussels
X-LIC-LOCATION:Europe/Brussels
BEGIN:DAYLIGHT
DTSTART:20260329T030000
TZOFFSETFROM:+0100
TZOFFSETTO:+0200
TZNAME:CEST
END:DAYLIGHT
END:VTIMEZONE
END:VCALENDAR