BEGIN:VCALENDAR
VERSION:2.0
PRODID:-//wp-events-plugin.com//6.6.4//EN
TZID:Europe/Paris
X-WR-TIMEZONE:Europe/Paris
BEGIN:VEVENT
UID:117@haut-pays.be
DTSTART;TZID=Europe/Brussels:20260911T000000
DTEND;TZID=Europe/Brussels:20260911T000000
DTSTAMP:20260228T095701Z
URL:http://www.haut-pays.be/wordpress/events/cyclisme-u23-road-series/
SUMMARY:Cyclisme: U23 Road Series
DESCRIPTION:
CATEGORIES:Sport
LOCATION:Angreau - Place\, Place d'Angreau\, Angreau\, 7387\, Belgique
X-APPLE-STRUCTURED-LOCATION;VALUE=URI;X-ADDRESS=Place d'Angreau\, Angreau\,
  7387\, Belgique;X-APPLE-RADIUS=100;X-TITLE=Angreau - Place:geo:0,0
END:VEVENT
BEGIN:VTIMEZONE
TZID:Europe/Brussels
X-LIC-LOCATION:Europe/Brussels
BEGIN:DAYLIGHT
DTSTART:20260329T030000
TZOFFSETFROM:+0100
TZOFFSETTO:+0200
TZNAME:CEST
END:DAYLIGHT
END:VTIMEZONE
END:VCALENDAR